BEGIN:VCALENDAR
VERSION:2.0
PRODID:-//Sex and the City - ECPv6.15.18//NONSGML v1.0//EN
CALSCALE:GREGORIAN
METHOD:PUBLISH
X-WR-CALNAME:Sex and the City
X-ORIGINAL-URL:https://sexandthecity.space
X-WR-CALDESC:Eventi per Sex and the City
REFRESH-INTERVAL;VALUE=DURATION:PT1H
X-Robots-Tag:noindex
X-PUBLISHED-TTL:PT1H
BEGIN:VTIMEZONE
TZID:UTC
BEGIN:STANDARD
TZOFFSETFROM:+0000
TZOFFSETTO:+0000
TZNAME:UTC
DTSTART:20240101T000000
END:STANDARD
END:VTIMEZONE
BEGIN:VEVENT
DTSTART;TZID=UTC:20251031T180000
DTEND;TZID=UTC:20251031T200000
DTSTAMP:20260423T081637
CREATED:20251022T095337Z
LAST-MODIFIED:20251023T101515Z
UID:7705-1761933600-1761940800@sexandthecity.space
SUMMARY:FERRARA ATLANTE DI GENERE | Evento di apertura
DESCRIPTION:Venerdì 31 ottobre ci incontriamo a Ferrara da Wunderkammer\, in via Darsena 57\, per la presentazione del progetto Ferrara Atlante di Genere: una ricerca che analizza la città attraverso una prospettiva attenta alle differenze di genere. \nDurante l’incontro\, insieme a Valeria Ruggeri (Centro Donna Giustizia)\, Florencia Andreola e Laura Da Re (Sex & the City)\, Angela Travagli (Assessora con delega alle Pari Opportunità del Comune di Ferrara) e Dalia Bighinati (Ferrara\, le donne e la città)\, parleremo di come costruire una città capace di accogliere e valorizzare le esperienze di tuttɜ. \nAttraverso la raccolta di dati\, la mappatura delle risorse esistenti e l’esperienza concreta di chi da anni sostiene le donne e contrasta la violenza\, si intrecceranno saperi e pratiche per offrire nuovi strumenti e riflessioni sulla città. \nTutte le informazioni sul progetto Ferrara Atlante di genere sono disponibili a questa pagina. \nScarica la locandina
URL:https://sexandthecity.space/evento/ferrara-atlante-di-genere/
LOCATION:Wunderkammer\, via Darsena\, 57\, Ferrara\, Italia
CATEGORIES:Incontro pubblico
ATTACH;FMTTYPE=image/jpeg:https://sexandthecity.space/wp-content/uploads/2025/10/EVENTO_postIG_1.jpg
END:VEVENT
END:VCALENDAR